BEGIN:VCALENDAR
VERSION:2.0
PRODID:icalendar-ruby
CALSCALE:GREGORIAN
METHOD:PUBLISH
BEGIN:VEVENT
DTSTAMP:20260423T003727Z
UID:570-3573419@ctkelc.org
DTSTART:20260524T171500Z
DTEND:20260524T181500Z
CLASS:PUBLIC
CREATED:20260422T140707
DESCRIPTION:Pentecost Picnic\nSunday\, May 24 at 12:15 p.m.\nThe Spirit is 
 moving—and so are we… right outside for a joyful Pentecost Picnic!\nEv
 eryone is welcome to join us as we gather in celebration of the Holy Spiri
 t with food\, fellowship\, sunshine\, and good company. Members are invite
 d to bring a side to share with the community.\nKids activities will be of
 fered.  Bring your sunglasses\, a lawn chair\, and your best picnic vibes
  as we celebrate the birthday of the Church together. Don’t forget to we
 ar red to mark this vibrant feast day!\nWant to help?\nWe’d love your he
 lp in making this picnic extra special—whether by bringing food or lendi
 ng a helping hand. Questions or want to get involved? Reach out to Donna O
 lson-Salas Deacon Ben Remmert for more information. All are welcome. Alway
 s.
LAST-MODIFIED:20260422T140707
LOCATION:Christ the King Lutheran Church 2353 Rice Boulevard Houston\, Texa
 s 77005 (courtyard)
SUMMARY:Pentecost Picnic
URL;VALUE=URI:https://www.ctkelc.org/events/pentecost-picnic--570/2026-05-2
 4
ATTACH;FILENAME=2026-Pentecost-Picnic.png;FMTTYPE=image/png:https://dq5pwpg
 1q8ru0.cloudfront.net/2026/04/22/19/07/07/960046ef-e500-4120-a58e-526f5489
 b132/2026-Pentecost-Picnic.png
END:VEVENT
END:VCALENDAR
