BEGIN:VCALENDAR
VERSION:2.0
PRODID:icalendar-ruby
CALSCALE:GREGORIAN
METHOD:PUBLISH
BEGIN:VEVENT
DTSTAMP:20260422T001730Z
UID:357-3563216@ctkelc.org
DTSTART:20261008T000000Z
DTEND:20261008T000000Z
CLASS:PUBLIC
CREATED:20260421T170156
DESCRIPTION:Prayer Shawl Knitters: Wednesdays at 7:00 p.m.  \nDo you enjo
 y knitting or crocheting? You are invited to join online as we create pray
 er shawls to be distributed to members and friends of the congregation exp
 eriencing life-changing events. All experience and expertise levels are in
 vited to join us\, please contact Deacon Aimee\, Beverly Palmer\, or Sharo
 n Oswalt to receive a zoom link. 
LAST-MODIFIED:20260421T170156
LOCATION:
SUMMARY:Online Prayer Shawl Knitters
URL;VALUE=URI:https://www.ctkelc.org/events/online-prayer-shawl-knitters/20
 26-10-07
ATTACH;FILENAME=KE-zoom-knit-along-tile_1.png;FMTTYPE=image/png:https://dq5
 pwpg1q8ru0.cloudfront.net/2024/12/04/21/19/16/aea27d28-a586-45f8-8d9a-c31b
 9bb963db/KE-zoom-knit-along-tile_1.png
END:VEVENT
END:VCALENDAR
