BEGIN:VCALENDAR
VERSION:2.0
PRODID:icalendar-ruby
CALSCALE:GREGORIAN
METHOD:PUBLISH
BEGIN:VEVENT
DTSTAMP:20260425T015229Z
UID:147-3610182@ctkelc.org
DTSTART:20261011T143000Z
DTEND:20261011T154500Z
CLASS:PUBLIC
CREATED:20260424T204942
DESCRIPTION:Musical Gatherings and Godly Play Classes \nBeginning on Sunda
 y\, September 14 Musical Gatherings with Cantor Ben Kerswell and volunteer
 s will meet with all children (ages 4 and up) in the narthex to have fun a
 nd learn music from 9:30 until 10:00 a.m. After the musical gatherings\, c
 hildren will go to their Godly Playrooms to hear a story\, work\, and have
  a feast together. Godly Play classes will be done at 10:45 a.m. when pare
 nts pick up their children. For more information\, please get in touch wit
 h Deacon Ben Remmert.
LAST-MODIFIED:20260424T204942
LOCATION:2353 Rice Blvd. Houston\, Texas 77005
SUMMARY:Musical Gatherings and Godly Play Classes
URL;VALUE=URI:https://www.ctkelc.org/events/musical-gatherings-and-godly-pl
 ay-classes/2026-10-11
ATTACH;FILENAME=children choir.jpg;FMTTYPE=image/jpeg:https://dq5pwpg1q8ru0
 .cloudfront.net/2023/12/10/08/06/27/032c98b2-066a-45ff-befb-e7856cd8893a/c
 hildren%20choir.jpg
END:VEVENT
END:VCALENDAR
