BEGIN:VCALENDAR
VERSION:2.0
PRODID:icalendar-ruby
CALSCALE:GREGORIAN
METHOD:PUBLISH
BEGIN:VEVENT
DTSTAMP:20260421T103119Z
UID:49-3549819@ctkelc.org
DTSTART:20260914T170000Z
DTEND:20260914T173000Z
CLASS:PUBLIC
CREATED:20260420T192630
DESCRIPTION:Group Meets Online at noon\nA traditional monastic practice of 
 scriptural reading\, meditation and prayer intended to promote communion w
 ith God and to increase the knowledge of God's word.\n\nContact Beverly Da
 vis for the zoom link.
LAST-MODIFIED:20260420T192630
LOCATION:Zoom (Email for private link below)
SUMMARY:Lectio Divina
URL;VALUE=URI:https://www.ctkelc.org/events/lectio-divina/2026-09-14
ATTACH;FILENAME=FK8PY.jpg;FMTTYPE=image/jpeg:https://dq5pwpg1q8ru0.cloudfro
 nt.net/2023/03/30/14/29/35/018dc2b1-f07c-4976-8a79-83f79d554157/FK8PY.jpg
END:VEVENT
END:VCALENDAR
