BEGIN:VCALENDAR
VERSION:2.0
PRODID:icalendar-ruby
CALSCALE:GREGORIAN
METHOD:PUBLISH
BEGIN:VEVENT
DTSTAMP:20260423T003901Z
UID:572-3573418@ctkelc.org
DTSTART:20260503T143000Z
DTEND:20260503T180000Z
CLASS:PUBLIC
CREATED:20260422T134437
DESCRIPTION:Justice Advocacy Events: Sunday\, May 3\nJustice Advocacy Event
  at CtK from 9:30 a.m. to 1 p.m.\, focusing on speaking up for justice. Fo
 r more information contact Lisa Brenskelle at gcs.lrc@gmail.com.
LAST-MODIFIED:20260422T134437
LOCATION:Christ the King Lutheran Church 2353 Rice Boulevard Houston\, Texa
 s 77005 (Courtyard)
SUMMARY:Justice Advocacy Event
URL;VALUE=URI:https://www.ctkelc.org/events/justice-advocacy-event--572/202
 6-05-03
END:VEVENT
END:VCALENDAR
