BEGIN:VCALENDAR
VERSION:2.0
PRODID:icalendar-ruby
CALSCALE:GREGORIAN
METHOD:PUBLISH
BEGIN:VEVENT
DTSTAMP:20260423T003145Z
UID:567-3573409@ctkelc.org
DTSTART:20260509T130000Z
DTEND:20260509T170000Z
CLASS:PUBLIC
CREATED:20260422T125124
DESCRIPTION:Houston Food Bank Service Day\nSaturday\, May 9 at 8:00 a.m. fr
 om 8 a.m. – 12 p.m.\nWe're preparing for the Christ the King group's vol
 unteering outing to the Houston Food Bank located at 535 Portwall St\, Hou
 ston\, TX 77029. Make sure to wear closed-toe shoes\, pants\, sleeved shir
 t (short or long sleeves). Contact ctkhfb@gmail.com for more information
 . Carpooling request? If needed\, it will leave the church parking lot at 
 7:30 am. Please specify if you wish to carpool so we can be sure to send s
 omeone there before heading to the Houston Food Bank.
LAST-MODIFIED:20260422T125124
LOCATION:535 Portwall St\, Houston\, TX 77029
SUMMARY:Houston Food Bank Service Day
URL;VALUE=URI:https://www.ctkelc.org/events/houston-food-bank-service-day--
 567/2026-05-09
ATTACH;FILENAME=Houston-Food-Bank-Montage.jpg;FMTTYPE=image/jpeg:https://dq
 5pwpg1q8ru0.cloudfront.net/2026/04/22/17/51/24/7ef96456-12a5-4152-bc65-827
 19be8f6f1/Houston-Food-Bank-Montage.jpg
END:VEVENT
END:VCALENDAR
