BEGIN:VCALENDAR
VERSION:2.0
PRODID:icalendar-ruby
CALSCALE:GREGORIAN
METHOD:PUBLISH
BEGIN:VEVENT
DTSTAMP:20260423T003912Z
UID:568-3573411@ctkelc.org
DTSTART:20260510T160000Z
DTEND:20260510T170000Z
CLASS:PUBLIC
CREATED:20260422T125406
DESCRIPTION:Graduate Recognition Sunday\nSunday\, May 10\, 2026\nWe would s
 till love to hear and celebrate with you. If you are receiving a degree fr
 om high school\, undergraduate\, technological\, or graduate programs\, we
  would like to know! Email the church office with details about your gradu
 ation date and any plans you have for your future (ctk@ctkelc.org). High s
 chool seniors will be celebrating their high school graduations on Sunday\
 , May 10 with a special milestone gift and cake.
LAST-MODIFIED:20260422T125406
LOCATION:Christ the King Lutheran Church 2353 Rice Boulevard Houston\, Texa
 s 77005 (nave)
SUMMARY:Graduate Recognition
URL;VALUE=URI:https://www.ctkelc.org/events/graduate-recognition/2026-05-10
END:VEVENT
END:VCALENDAR
