BEGIN:VCALENDAR
VERSION:2.0
PRODID:icalendar-ruby
CALSCALE:GREGORIAN
METHOD:PUBLISH
BEGIN:VEVENT
DTSTAMP:20260423T111826Z
UID:523-3570922@ctkelc.org
DTSTART:20260424T150000Z
DTEND:20260424T163000Z
CLASS:PUBLIC
CREATED:20260422T114309
DESCRIPTION:Rice Village Campus – Friday Bible Study at 10:00 a.m. (In pe
 rson/Second-Floor Youth Room &amp\; Zoom\nWe will be exploring the differe
 nces and similarities between the Eastern Orthodox and catholic (western\,
  including Lutherans) theology and practice. April 24 through June 26\, 20
 26. (No study on May 15)\n10:00 a.m. Gathering &amp\; Refreshments\n10:15 
 a.m. Opening Prayers\n10:20-11:30 a.m. Study\n11:30 a.m. Closing Prayers a
 nd Our Father
LAST-MODIFIED:20260422T114309
LOCATION:Christ the King Lutheran Church 2353 Rice Boulevard Houston\, Texa
 s 77005 (2nd floor youth room)
SUMMARY:Friday Bible Study Rice Village Campus + Online
URL;VALUE=URI:https://www.ctkelc.org/events/friday-bible-study-rice-village
 -campus-online--523/2026-04-24
ATTACH;FILENAME=FqmAC.jpg;FMTTYPE=image/jpeg:https://dq5pwpg1q8ru0.cloudfro
 nt.net/2025/12/29/19/41/21/bb0adf10-49c0-4fb5-96b8-172d4e83ebba/FqmAC.jpg
END:VEVENT
END:VCALENDAR
