BEGIN:VCALENDAR
VERSION:2.0
PRODID:icalendar-ruby
CALSCALE:GREGORIAN
METHOD:PUBLISH
BEGIN:VEVENT
DTSTAMP:20260423T123944Z
UID:551-3440083@ctkelc.org
DTSTART:20260425T130000Z
DTEND:20260426T180000Z
CLASS:PUBLIC
CREATED:20260413T130418
DESCRIPTION:CTK's Annual Tag Sale\nSaturday\, April 25 from 8:00 a.m. – 1
 2:00 p.m. &amp\; Sunday\, April 26 from 9:30 a.m. - 1:00 p.m. in the Pari
 sh Hall\nThe annual Tag Sale at Christ the King Church will take place on 
 Saturday\, April 25 and Sunday\, April 26 in the parish hall.\nDonations
  of items from closets\, garages\, and attics will be accepted starting S
 unday\, April 19 in the parish hall. Furniture in good condition is welco
 me. Larger items and bulk donations can be dropped off on Thursday\, April
  23 and Friday\, April 24.\nVolunteers are needed to help run the sale and
  to assist with donating leftover items on Sunday\, April 27 and Monday\, 
 April 28. Sign up here: https://www.signupgenius.com/go/30E0849A4A92CA2F8
 5-63352802-tagsale#/\n*All proceeds will benefit the Liebster Children’s
  Ministry Fund and the Luther League Fund.*\n \n 
LAST-MODIFIED:20260413T130418
LOCATION:Christ the King Lutheran Church 2353 Rice Boulevard Houston\, Texa
 s 77005 (parish hall)
SUMMARY:CTK's Annual Tag Sale
URL;VALUE=URI:https://www.ctkelc.org/events/ctks-annual-tag-sale/2026-04-25
ATTACH;FILENAME=CTKs-Annual-Tag-Sale-.png;FMTTYPE=image/png:https://dq5pwpg
 1q8ru0.cloudfront.net/2026/04/13/18/04/18/6415c396-4439-47e8-9a24-bc6b1729
 fc1a/CTKs-Annual-Tag-Sale-.png
END:VEVENT
END:VCALENDAR
