BEGIN:VCALENDAR
VERSION:2.0
PRODID:icalendar-ruby
CALSCALE:GREGORIAN
METHOD:PUBLISH
BEGIN:VEVENT
DTSTAMP:20260423T003146Z
UID:569-3573412@ctkelc.org
DTSTART:20260517T160000Z
DTEND:20260517T170000Z
CLASS:PUBLIC
CREATED:20260422T125548
DESCRIPTION:Confirmation Sunday\nSunday\, May 17 at 11 a.m. \nChristopher B
 runs\, Cecilia Bruns\, Elizabeth Mallon\, August Triantaphyllis\, Charlott
 e Turner\, and Joseph Verret will affirm their faith at the worship servic
 e on May 17 at 11 a.m. The congregation has supported them with prayer and
  accompaniment as they studied Luther’s Small Catechism and the Bible. C
 ome check out their Confirmation projects as our youth express their faith
  story to the congregation and have some cake in the courtyard.
LAST-MODIFIED:20260422T125548
LOCATION:Christ the King Lutheran Church 2353 Rice Boulevard Houston\, Texa
 s 77005 (nave)
SUMMARY:Confirmation Sunday
URL;VALUE=URI:https://www.ctkelc.org/events/confirmation-sunday--569/2026-0
 5-17
END:VEVENT
END:VCALENDAR
