BEGIN:VCALENDAR
VERSION:2.0
PRODID:icalendar-ruby
CALSCALE:GREGORIAN
METHOD:PUBLISH
BEGIN:VEVENT
DTSTAMP:20260421T232424Z
UID:450-3563454@ctkelc.org
DTSTART:20261101T162000Z
DTEND:20261101T170000Z
CLASS:PUBLIC
CREATED:20260421T170157
DESCRIPTION:Choir Rehearsal in the Nave
LAST-MODIFIED:20260421T170157
LOCATION:2353 Rice Blvd\, Houston\, TX 77005 (Nave)
SUMMARY:Choir Rehearsal
URL;VALUE=URI:https://www.ctkelc.org/events/choir-rehearsal--450/2026-11-01
END:VEVENT
END:VCALENDAR
