BEGIN:VCALENDAR
VERSION:2.0
PRODID:icalendar-ruby
CALSCALE:GREGORIAN
METHOD:PUBLISH
BEGIN:VEVENT
DTSTAMP:20260421T201324Z
UID:450-3560974@ctkelc.org
DTSTART:20261018T152000Z
DTEND:20261018T160000Z
CLASS:PUBLIC
CREATED:20260421T142434
DESCRIPTION:Choir Rehearsal in the Nave
LAST-MODIFIED:20260421T142434
LOCATION:2353 Rice Blvd\, Houston\, TX 77005 (Nave)
SUMMARY:Choir Rehearsal
URL;VALUE=URI:https://www.ctkelc.org/events/choir-rehearsal--450/2026-10-18
END:VEVENT
END:VCALENDAR
