BEGIN:VCALENDAR
VERSION:2.0
PRODID:icalendar-ruby
CALSCALE:GREGORIAN
METHOD:PUBLISH
BEGIN:VEVENT
DTSTAMP:20260421T185436Z
UID:450-3558495@ctkelc.org
DTSTART:20261011T152000Z
DTEND:20261011T160000Z
CLASS:PUBLIC
CREATED:20260421T114709
DESCRIPTION:Choir Rehearsal in the Nave
LAST-MODIFIED:20260421T114709
LOCATION:2353 Rice Blvd\, Houston\, TX 77005 (Nave)
SUMMARY:Choir Rehearsal
URL;VALUE=URI:https://www.ctkelc.org/events/choir-rehearsal--450/2026-10-11
END:VEVENT
END:VCALENDAR
