BEGIN:VCALENDAR
VERSION:2.0
PRODID:icalendar-ruby
CALSCALE:GREGORIAN
METHOD:PUBLISH
BEGIN:VEVENT
DTSTAMP:20260421T131253Z
UID:450-3553536@ctkelc.org
DTSTART:20260913T152000Z
DTEND:20260913T160000Z
CLASS:PUBLIC
CREATED:20260421T063301
DESCRIPTION:Choir Rehearsal in the Nave
LAST-MODIFIED:20260421T063301
LOCATION:2353 Rice Blvd\, Houston\, TX 77005 (Nave)
SUMMARY:Choir Rehearsal
URL;VALUE=URI:https://www.ctkelc.org/events/choir-rehearsal--450/2026-09-13
END:VEVENT
END:VCALENDAR
