BEGIN:VCALENDAR
VERSION:2.0
PRODID:icalendar-ruby
CALSCALE:GREGORIAN
METHOD:PUBLISH
BEGIN:VEVENT
DTSTAMP:20260421T113828Z
UID:450-3553535@ctkelc.org
DTSTART:20260906T152000Z
DTEND:20260906T160000Z
CLASS:PUBLIC
CREATED:20260421T063301
DESCRIPTION:Choir Rehearsal in the Nave
LAST-MODIFIED:20260421T063301
LOCATION:2353 Rice Blvd\, Houston\, TX 77005 (Nave)
SUMMARY:Choir Rehearsal
URL;VALUE=URI:https://www.ctkelc.org/events/choir-rehearsal--450/2026-09-06
END:VEVENT
END:VCALENDAR
