BEGIN:VCALENDAR
VERSION:2.0
PRODID:icalendar-ruby
CALSCALE:GREGORIAN
METHOD:PUBLISH
BEGIN:VEVENT
DTSTAMP:20260421T101109Z
UID:450-3551058@ctkelc.org
DTSTART:20260830T152000Z
DTEND:20260830T160000Z
CLASS:PUBLIC
CREATED:20260420T192634
DESCRIPTION:Choir Rehearsal in the Nave
LAST-MODIFIED:20260420T192634
LOCATION:2353 Rice Blvd\, Houston\, TX 77005 (Nave)
SUMMARY:Choir Rehearsal
URL;VALUE=URI:https://www.ctkelc.org/events/choir-rehearsal--450/2026-08-30
END:VEVENT
END:VCALENDAR
