BEGIN:VCALENDAR
VERSION:2.0
PRODID:icalendar-ruby
CALSCALE:GREGORIAN
METHOD:PUBLISH
BEGIN:VEVENT
DTSTAMP:20260423T003626Z
UID:571-3573416@ctkelc.org
DTSTART:20260531T140000Z
DTEND:20260531T180000Z
CLASS:PUBLIC
CREATED:20260422T134108
DESCRIPTION:Blood Drive\nSunday\, May 31 at 9 a.m. – 1:00 p.m. in the par
 ish hall\nChrist the King Rice Village campus will be hosting a blood driv
 e on Sunday\, May 31 from 9:00 a.m. – 1:00 p.m. in the parish hall. We w
 ould love for you to sign up for this blood drive if you are able to do so
 : https://www.commitforlife.org/donor/schedules/drive_schedule/408843. \n
 All successful donors will receive a free beach towel and free A1C pre-dia
 betes testing. Thank you for being willing to save a life! And P.S. – Pl
 ease share this with friends and family! Not able to donate on May 31? No 
 worries\, you can donate at any Gulf Coast Regional Blood Center donation 
 site and provide the Sponsor Code: CTKC.
LAST-MODIFIED:20260422T134108
LOCATION:Christ the King Lutheran Church 2353 Rice Boulevard Houston\, Texa
 s 77005 (Parish Hall)
SUMMARY:Blood Drive
URL;VALUE=URI:https://www.ctkelc.org/events/blood-drive/2026-05-31
ATTACH;FILENAME=May-Blood-Drive.png;FMTTYPE=image/png:https://dq5pwpg1q8ru0
 .cloudfront.net/2026/04/22/18/01/54/fdaa4d7c-3279-4957-b3e6-6b88783b2746/M
 ay-Blood-Drive.png
END:VEVENT
END:VCALENDAR
